Package: preciseTADhub Version: 1.18.0 Command: /home/biocbuild/bbs-3.22-bioc/R/bin/R CMD build --keep-empty-dirs --no-resave-data preciseTADhub StartedAt: 2025-10-30 11:45:32 -0400 (Thu, 30 Oct 2025) EndedAt: 2025-10-30 11:47:31 -0400 (Thu, 30 Oct 2025) EllapsedTime: 118.2 seconds RetCode: 0 Status: OK PackageFile: preciseTADhub_1.18.0.tar.gz PackageFileSize: 228.5 KiB