Package: preciseTADhub Version: 1.16.0 Command: /home/biocbuild/bbs-3.21-bioc/R/bin/R CMD INSTALL preciseTADhub StartedAt: 2025-07-24 10:57:12 -0400 (Thu, 24 Jul 2025) EndedAt: 2025-07-24 10:57:24 -0400 (Thu, 24 Jul 2025) EllapsedTime: 12.7 seconds RetCode: 0 Status: OK