Package: preciseTADhub Version: 1.16.0 Command: /home/biocbuild/bbs-3.21-bioc/R/bin/R CMD build --keep-empty-dirs --no-resave-data preciseTADhub StartedAt: 2025-07-24 11:33:14 -0400 (Thu, 24 Jul 2025) EndedAt: 2025-07-24 11:34:50 -0400 (Thu, 24 Jul 2025) EllapsedTime: 95.6 seconds RetCode: 0 Status: OK PackageFile: preciseTADhub_1.16.0.tar.gz PackageFileSize: 228.5 KiB