Package: pepDat Version: 1.28.0 Command: /home/biocbuild/bbs-3.21-bioc/R/bin/R CMD check --install=check:pepDat.install-out.txt --library=/home/biocbuild/bbs-3.21-bioc/R/site-library --timings pepDat_1.28.0.tar.gz StartedAt: 2025-10-07 12:44:54 -0400 (Tue, 07 Oct 2025) EndedAt: 2025-10-07 12:45:58 -0400 (Tue, 07 Oct 2025) EllapsedTime: 63.1 seconds RetCode: 0 Status: OK CheckDir: pepDat.Rcheck Warnings: 0