Package: pepDat Version: 1.28.0 Command: /home/biocbuild/bbs-3.21-bioc/R/bin/R CMD build --keep-empty-dirs --no-resave-data pepDat StartedAt: 2025-10-02 11:33:39 -0400 (Thu, 02 Oct 2025) EndedAt: 2025-10-02 11:33:54 -0400 (Thu, 02 Oct 2025) EllapsedTime: 15.6 seconds RetCode: 0 Status: OK PackageFile: pepDat_1.28.0.tar.gz PackageFileSize: 2.659 MiB