Package: pasillaBamSubset Version: 0.46.0 Command: /home/biocbuild/bbs-3.21-bioc/R/bin/R CMD INSTALL pasillaBamSubset StartedAt: 2025-07-24 10:55:11 -0400 (Thu, 24 Jul 2025) EndedAt: 2025-07-24 10:55:13 -0400 (Thu, 24 Jul 2025) EllapsedTime: 1.7 seconds RetCode: 0 Status: OK