Package: nmrdata Version: 1.0.0 Maintainer: Torben Kimhofer MaintainerEmail: tkimhofer at gmail.com git_url: https://git.bioconductor.org/packages/nmrdata git_branch: RELEASE_3_22 git_last_commit: a43e0c7 git_last_commit_date: 2025-10-29 10:07:10 -0400 (Wed, 29 Oct 2025)