Package: nanotubes Version: 1.26.0 Command: /home/biocbuild/bbs-3.22-bioc/R/bin/R CMD INSTALL nanotubes StartedAt: 2025-11-04 10:55:13 -0500 (Tue, 04 Nov 2025) EndedAt: 2025-11-04 10:55:16 -0500 (Tue, 04 Nov 2025) EllapsedTime: 2.2 seconds RetCode: 0 Status: OK