Package: mvoutData Version: 1.46.0 Command: /home/biocbuild/bbs-3.22-bioc/R/bin/R CMD build --keep-empty-dirs --no-resave-data mvoutData StartedAt: 2025-10-30 11:42:23 -0400 (Thu, 30 Oct 2025) EndedAt: 2025-10-30 11:42:27 -0400 (Thu, 30 Oct 2025) EllapsedTime: 4.0 seconds RetCode: 0 Status: OK PackageFile: mvoutData_1.46.0.tar.gz PackageFileSize: 14.19 MiB