Package: muleaData Version: 1.6.0 Command: /home/biocbuild/bbs-3.22-bioc/R/bin/R CMD INSTALL muleaData StartedAt: 2025-10-30 10:55:39 -0400 (Thu, 30 Oct 2025) EndedAt: 2025-10-30 10:55:42 -0400 (Thu, 30 Oct 2025) EllapsedTime: 2.7 seconds RetCode: 0 Status: OK