Package: muSpaData Version: 1.2.0 Command: /home/biocbuild/bbs-3.22-bioc/R/bin/R CMD build --keep-empty-dirs --no-resave-data muSpaData StartedAt: 2025-10-30 11:42:06 -0400 (Thu, 30 Oct 2025) EndedAt: 2025-10-30 11:43:31 -0400 (Thu, 30 Oct 2025) EllapsedTime: 84.6 seconds RetCode: 0 Status: OK PackageFile: muSpaData_1.2.0.tar.gz PackageFileSize: 582.8 KiB