Package: msqc1 Version: 1.36.0 Command: /home/biocbuild/bbs-3.21-bioc/R/bin/R CMD check --install=check:msqc1.install-out.txt --library=/home/biocbuild/bbs-3.21-bioc/R/site-library --timings msqc1_1.36.0.tar.gz StartedAt: 2025-10-09 12:39:26 -0400 (Thu, 09 Oct 2025) EndedAt: 2025-10-09 12:40:23 -0400 (Thu, 09 Oct 2025) EllapsedTime: 57.6 seconds RetCode: 0 Status: OK CheckDir: msqc1.Rcheck Warnings: 0