Package: msigdb Version: 1.18.0 Command: /home/biocbuild/bbs-3.22-bioc/R/bin/R CMD INSTALL msigdb StartedAt: 2025-11-04 10:57:32 -0500 (Tue, 04 Nov 2025) EndedAt: 2025-11-04 10:57:33 -0500 (Tue, 04 Nov 2025) EllapsedTime: 1.6 seconds RetCode: 0 Status: OK