Package: mouse4302barcodevecs Version: 1.48.0 Command: /home/biocbuild/bbs-3.22-bioc/R/bin/R CMD build --keep-empty-dirs --no-resave-data mouse4302barcodevecs StartedAt: 2025-11-04 11:31:40 -0500 (Tue, 04 Nov 2025) EndedAt: 2025-11-04 11:31:41 -0500 (Tue, 04 Nov 2025) EllapsedTime: 1.0 seconds RetCode: 0 Status: OK PackageFile: mouse4302barcodevecs_1.48.0.tar.gz PackageFileSize: 1021 KiB