Package: mosaicsExample Version: 1.46.0 Command: /home/biocbuild/bbs-3.21-bioc/R/bin/R CMD INSTALL mosaicsExample StartedAt: 2025-07-24 10:55:16 -0400 (Thu, 24 Jul 2025) EndedAt: 2025-07-24 10:55:18 -0400 (Thu, 24 Jul 2025) EllapsedTime: 2.2 seconds RetCode: 0 Status: OK