Package: minionSummaryData Version: 1.40.0 Command: /home/biocbuild/bbs-3.22-bioc/R/bin/R CMD build --keep-empty-dirs --no-resave-data minionSummaryData StartedAt: 2025-11-04 11:31:23 -0500 (Tue, 04 Nov 2025) EndedAt: 2025-11-04 11:31:35 -0500 (Tue, 04 Nov 2025) EllapsedTime: 11.6 seconds RetCode: 0 Status: OK PackageFile: minionSummaryData_1.40.0.tar.gz PackageFileSize: 134.7 MiB