Package: minionSummaryData Version: 1.38.0 Command: /home/biocbuild/bbs-3.21-bioc/R/bin/R CMD INSTALL minionSummaryData StartedAt: 2025-07-24 10:55:10 -0400 (Thu, 24 Jul 2025) EndedAt: 2025-07-24 10:55:11 -0400 (Thu, 24 Jul 2025) EllapsedTime: 1.4 seconds RetCode: 0 Status: OK