Package: minfiDataEPIC Version: 1.34.0 Command: /home/biocbuild/bbs-3.21-bioc/R/bin/R CMD INSTALL minfiDataEPIC StartedAt: 2025-07-24 11:02:59 -0400 (Thu, 24 Jul 2025) EndedAt: 2025-07-24 11:03:46 -0400 (Thu, 24 Jul 2025) EllapsedTime: 47.3 seconds RetCode: 0 Status: OK