Package: maqcExpression4plex Version: 1.54.0 Command: /home/biocbuild/bbs-3.22-bioc/R/bin/R CMD check --install=check:maqcExpression4plex.install-out.txt --library=/home/biocbuild/bbs-3.22-bioc/R/site-library --timings maqcExpression4plex_1.54.0.tar.gz StartedAt: 2025-11-20 12:49:24 -0500 (Thu, 20 Nov 2025) EndedAt: 2025-11-20 12:49:43 -0500 (Thu, 20 Nov 2025) EllapsedTime: 18.7 seconds RetCode: 0 Status: OK CheckDir: maqcExpression4plex.Rcheck Warnings: 0