Package: maqcExpression4plex Version: 1.54.0 Command: /home/biocbuild/bbs-3.22-bioc/R/bin/R CMD build --keep-empty-dirs --no-resave-data maqcExpression4plex StartedAt: 2025-11-20 11:30:39 -0500 (Thu, 20 Nov 2025) EndedAt: 2025-11-20 11:30:45 -0500 (Thu, 20 Nov 2025) EllapsedTime: 6.0 seconds RetCode: 0 Status: OK PackageFile: maqcExpression4plex_1.54.0.tar.gz PackageFileSize: 6.578 MiB