Package: maqcExpression4plex Version: 1.52.0 Command: /home/biocbuild/bbs-3.21-bioc/R/bin/R CMD INSTALL maqcExpression4plex StartedAt: 2025-07-24 10:55:24 -0400 (Thu, 24 Jul 2025) EndedAt: 2025-07-24 10:55:26 -0400 (Thu, 24 Jul 2025) EllapsedTime: 2.4 seconds RetCode: 0 Status: OK