Package: iModMixData Version: 1.0.0 Command: /home/biocbuild/bbs-3.22-bioc/R/bin/R CMD INSTALL iModMixData StartedAt: 2025-11-04 10:57:29 -0500 (Tue, 04 Nov 2025) EndedAt: 2025-11-04 10:57:31 -0500 (Tue, 04 Nov 2025) EllapsedTime: 2.6 seconds RetCode: 0 Status: OK