Package: iModMixData Version: 1.0.0 Command: /home/biocbuild/bbs-3.22-bioc/R/bin/R CMD check --install=check:iModMixData.install-out.txt --library=/home/biocbuild/bbs-3.22-bioc/R/site-library --timings iModMixData_1.0.0.tar.gz StartedAt: 2025-11-04 12:28:12 -0500 (Tue, 04 Nov 2025) EndedAt: 2025-11-04 12:30:08 -0500 (Tue, 04 Nov 2025) EllapsedTime: 115.9 seconds RetCode: 0 Status: OK CheckDir: iModMixData.Rcheck Warnings: 0