Package: humanHippocampus2024 Version: 1.2.0 Command: /home/biocbuild/bbs-3.22-bioc/R/bin/R CMD INSTALL humanHippocampus2024 StartedAt: 2025-10-30 11:01:26 -0400 (Thu, 30 Oct 2025) EndedAt: 2025-10-30 11:02:05 -0400 (Thu, 30 Oct 2025) EllapsedTime: 39.4 seconds RetCode: 0 Status: OK