Package: homosapienDEE2CellScore Version: 1.6.0 Command: /home/biocbuild/bbs-3.22-bioc/R/bin/R CMD INSTALL homosapienDEE2CellScore StartedAt: 2025-10-30 11:02:32 -0400 (Thu, 30 Oct 2025) EndedAt: 2025-10-30 11:03:10 -0400 (Thu, 30 Oct 2025) EllapsedTime: 38.0 seconds RetCode: 0 Status: OK