Package: homosapienDEE2CellScore Version: 1.6.0 Command: /home/biocbuild/bbs-3.22-bioc/R/bin/R CMD build --keep-empty-dirs --no-resave-data homosapienDEE2CellScore StartedAt: 2025-10-30 11:32:18 -0400 (Thu, 30 Oct 2025) EndedAt: 2025-10-30 11:33:11 -0400 (Thu, 30 Oct 2025) EllapsedTime: 53.1 seconds RetCode: 1 Status: ERROR PackageFile: None PackageFileSize: NA