Package: hgu2beta7 Version: 1.50.0 Command: /home/biocbuild/bbs-3.22-bioc/R/bin/R CMD check --install=check:hgu2beta7.install-out.txt --library=/home/biocbuild/bbs-3.22-bioc/R/site-library --timings hgu2beta7_1.50.0.tar.gz StartedAt: 2025-11-20 12:40:00 -0500 (Thu, 20 Nov 2025) EndedAt: 2025-11-20 12:40:29 -0500 (Thu, 20 Nov 2025) EllapsedTime: 28.9 seconds RetCode: 0 Status: WARNINGS CheckDir: hgu2beta7.Rcheck Warnings: 4