Package: hapmapsnp5 Version: 1.52.0 Command: /home/biocbuild/bbs-3.22-bioc/R/bin/R CMD build --keep-empty-dirs --no-resave-data hapmapsnp5 StartedAt: 2025-10-30 11:28:12 -0400 (Thu, 30 Oct 2025) EndedAt: 2025-10-30 11:30:07 -0400 (Thu, 30 Oct 2025) EllapsedTime: 114.6 seconds RetCode: 0 Status: OK PackageFile: hapmapsnp5_1.52.0.tar.gz PackageFileSize: 59.41 MiB