Package: gpaExample Version: 1.22.0 Command: /home/biocbuild/bbs-3.22-bioc/R/bin/R CMD build --keep-empty-dirs --no-resave-data gpaExample StartedAt: 2025-10-30 11:27:14 -0400 (Thu, 30 Oct 2025) EndedAt: 2025-10-30 11:27:16 -0400 (Thu, 30 Oct 2025) EllapsedTime: 2.0 seconds RetCode: 0 Status: OK PackageFile: gpaExample_1.22.0.tar.gz PackageFileSize: 11.52 MiB