Package: gDRtestData Version: 1.7.3 Command: /home/biocbuild/bbs-3.22-bioc/R/bin/R CMD check --install=check:gDRtestData.install-out.txt --library=/home/biocbuild/bbs-3.22-bioc/R/site-library --timings gDRtestData_1.7.3.tar.gz StartedAt: 2025-10-28 12:24:40 -0400 (Tue, 28 Oct 2025) EndedAt: 2025-10-28 12:25:19 -0400 (Tue, 28 Oct 2025) EllapsedTime: 39.2 seconds RetCode: 0 Status: OK CheckDir: gDRtestData.Rcheck Warnings: 0