Package: gDRtestData Version: 1.6.0 Command: /home/biocbuild/bbs-3.21-bioc/R/bin/R CMD INSTALL gDRtestData StartedAt: 2025-07-24 10:56:03 -0400 (Thu, 24 Jul 2025) EndedAt: 2025-07-24 10:56:07 -0400 (Thu, 24 Jul 2025) EllapsedTime: 3.5 seconds RetCode: 0 Status: OK