Package: fourDNData Version: 1.10.0 Command: /home/biocbuild/bbs-3.22-bioc/R/bin/R CMD check --install=check:fourDNData.install-out.txt --library=/home/biocbuild/bbs-3.22-bioc/R/site-library --timings fourDNData_1.10.0.tar.gz StartedAt: 2025-11-04 12:18:12 -0500 (Tue, 04 Nov 2025) EndedAt: 2025-11-04 12:20:19 -0500 (Tue, 04 Nov 2025) EllapsedTime: 127.2 seconds RetCode: 0 Status: OK CheckDir: fourDNData.Rcheck Warnings: 0