Package: fabiaData Version: 1.48.0 Command: /home/biocbuild/bbs-3.22-bioc/R/bin/R CMD INSTALL fabiaData StartedAt: 2025-10-30 10:56:29 -0400 (Thu, 30 Oct 2025) EndedAt: 2025-10-30 10:56:32 -0400 (Thu, 30 Oct 2025) EllapsedTime: 3.7 seconds RetCode: 0 Status: OK