Package: fabiaData Version: 1.48.0 Command: /home/biocbuild/bbs-3.22-bioc/R/bin/R CMD build --keep-empty-dirs --no-resave-data fabiaData StartedAt: 2025-10-30 11:23:43 -0400 (Thu, 30 Oct 2025) EndedAt: 2025-10-30 11:23:53 -0400 (Thu, 30 Oct 2025) EllapsedTime: 10.0 seconds RetCode: 0 Status: OK PackageFile: fabiaData_1.48.0.tar.gz PackageFileSize: 4.514 MiB