Package: ewceData Version: 1.16.0 Command: /home/biocbuild/bbs-3.21-bioc/R/bin/R CMD build --keep-empty-dirs --no-resave-data ewceData StartedAt: 2025-07-24 11:15:27 -0400 (Thu, 24 Jul 2025) EndedAt: 2025-07-24 11:16:19 -0400 (Thu, 24 Jul 2025) EllapsedTime: 51.1 seconds RetCode: 0 Status: OK PackageFile: ewceData_1.16.0.tar.gz PackageFileSize: 45.15 KiB