Package: epimutacionsData Version: 1.14.0 Command: /home/biocbuild/bbs-3.22-bioc/R/bin/R CMD build --keep-empty-dirs --no-resave-data epimutacionsData StartedAt: 2025-11-20 11:19:45 -0500 (Thu, 20 Nov 2025) EndedAt: 2025-11-20 11:20:25 -0500 (Thu, 20 Nov 2025) EllapsedTime: 39.5 seconds RetCode: 0 Status: OK PackageFile: epimutacionsData_1.14.0.tar.gz PackageFileSize: 57.04 MiB