Package: eoPredData Version: 1.4.0 Command: /home/biocbuild/bbs-3.22-bioc/R/bin/R CMD INSTALL eoPredData StartedAt: 2025-10-30 10:57:36 -0400 (Thu, 30 Oct 2025) EndedAt: 2025-10-30 10:57:59 -0400 (Thu, 30 Oct 2025) EllapsedTime: 23.1 seconds RetCode: 0 Status: OK