Package: easierData Version: 1.16.0 Command: /home/biocbuild/bbs-3.22-bioc/R/bin/R CMD INSTALL easierData StartedAt: 2025-11-04 11:04:24 -0500 (Tue, 04 Nov 2025) EndedAt: 2025-11-04 11:04:51 -0500 (Tue, 04 Nov 2025) EllapsedTime: 26.8 seconds RetCode: 0 Status: OK