Package: easierData Version: 1.16.0 Command: /home/biocbuild/bbs-3.22-bioc/R/bin/R CMD check --install=check:easierData.install-out.txt --library=/home/biocbuild/bbs-3.22-bioc/R/site-library --timings easierData_1.16.0.tar.gz StartedAt: 2025-11-04 12:14:40 -0500 (Tue, 04 Nov 2025) EndedAt: 2025-11-04 12:18:33 -0500 (Tue, 04 Nov 2025) EllapsedTime: 233.1 seconds RetCode: 0 Status: OK CheckDir: easierData.Rcheck Warnings: 0