Package: dyebiasexamples Version: 1.49.0 Command: /home/biocbuild/bbs-3.22-bioc/R/bin/R CMD check --install=check:dyebiasexamples.install-out.txt --library=/home/biocbuild/bbs-3.22-bioc/R/site-library --timings dyebiasexamples_1.49.0.tar.gz StartedAt: 2025-10-28 12:16:41 -0400 (Tue, 28 Oct 2025) EndedAt: 2025-10-28 12:18:25 -0400 (Tue, 28 Oct 2025) EllapsedTime: 103.5 seconds RetCode: 0 Status: WARNINGS CheckDir: dyebiasexamples.Rcheck Warnings: 5