Package: dressCheck Version: 0.46.0 Command: /home/biocbuild/bbs-3.21-bioc/R/bin/R CMD INSTALL dressCheck StartedAt: 2025-10-07 10:56:18 -0400 (Tue, 07 Oct 2025) EndedAt: 2025-10-07 10:56:27 -0400 (Tue, 07 Oct 2025) EllapsedTime: 9.1 seconds RetCode: 0 Status: OK