Package: dressCheck Version: 0.46.0 Command: /home/biocbuild/bbs-3.21-bioc/R/bin/R CMD build --keep-empty-dirs --no-resave-data dressCheck StartedAt: 2025-10-07 11:14:04 -0400 (Tue, 07 Oct 2025) EndedAt: 2025-10-07 11:14:27 -0400 (Tue, 07 Oct 2025) EllapsedTime: 23.6 seconds RetCode: 0 Status: OK PackageFile: dressCheck_0.46.0.tar.gz PackageFileSize: 65.75 MiB