Package: depmap Version: 1.24.0 Command: /home/biocbuild/bbs-3.22-bioc/R/bin/R CMD INSTALL depmap StartedAt: 2025-11-04 10:57:13 -0500 (Tue, 04 Nov 2025) EndedAt: 2025-11-04 10:57:27 -0500 (Tue, 04 Nov 2025) EllapsedTime: 14.2 seconds RetCode: 0 Status: OK