Package: depmap Version: 1.22.0 Command: /home/biocbuild/bbs-3.21-bioc/R/bin/R CMD INSTALL depmap StartedAt: 2025-07-24 10:57:14 -0400 (Thu, 24 Jul 2025) EndedAt: 2025-07-24 10:57:28 -0400 (Thu, 24 Jul 2025) EllapsedTime: 14.6 seconds RetCode: 0 Status: OK