Package: depmap Version: 1.22.0 Command: /home/biocbuild/bbs-3.21-bioc/R/bin/R CMD build --keep-empty-dirs --no-resave-data depmap StartedAt: 2025-07-24 11:13:14 -0400 (Thu, 24 Jul 2025) EndedAt: 2025-07-24 11:22:09 -0400 (Thu, 24 Jul 2025) EllapsedTime: 535.7 seconds RetCode: 0 Status: OK PackageFile: depmap_1.22.0.tar.gz PackageFileSize: 1.558 MiB