Package: curatedOvarianData Version: 1.48.0 Command: /home/biocbuild/bbs-3.22-bioc/R/bin/R CMD INSTALL curatedOvarianData StartedAt: 2025-11-04 10:56:22 -0500 (Tue, 04 Nov 2025) EndedAt: 2025-11-04 10:56:27 -0500 (Tue, 04 Nov 2025) EllapsedTime: 4.8 seconds RetCode: 0 Status: OK