Package: curatedOvarianData Version: 1.46.2 Command: /home/biocbuild/bbs-3.21-bioc/R/bin/R CMD INSTALL curatedOvarianData StartedAt: 2025-07-24 10:56:30 -0400 (Thu, 24 Jul 2025) EndedAt: 2025-07-24 10:56:38 -0400 (Thu, 24 Jul 2025) EllapsedTime: 7.9 seconds RetCode: 0 Status: OK