Package: curatedOvarianData Version: 1.46.2 Command: /home/biocbuild/bbs-3.21-bioc/R/bin/R CMD build --keep-empty-dirs --no-resave-data curatedOvarianData StartedAt: 2025-07-24 11:11:06 -0400 (Thu, 24 Jul 2025) EndedAt: 2025-07-24 11:13:34 -0400 (Thu, 24 Jul 2025) EllapsedTime: 147.2 seconds RetCode: 0 Status: OK PackageFile: curatedOvarianData_1.46.2.tar.gz PackageFileSize: 381.3 MiB