Package: curatedMetagenomicData Version: 3.18.0 Maintainer: Lucas schiffer MaintainerEmail: schiffer.lucas at gmail.com git_url: https://git.bioconductor.org/packages/curatedMetagenomicData git_branch: RELEASE_3_22 git_last_commit: 9cbaec1 git_last_commit_date: 2025-10-29 09:58:35 -0400 (Wed, 29 Oct 2025)