Package: curatedBreastData Version: 2.38.0 Command: /home/biocbuild/bbs-3.22-bioc/R/bin/R CMD INSTALL curatedBreastData StartedAt: 2025-10-30 10:58:53 -0400 (Thu, 30 Oct 2025) EndedAt: 2025-10-30 10:59:06 -0400 (Thu, 30 Oct 2025) EllapsedTime: 13.0 seconds RetCode: 0 Status: OK